BEGIN:VCALENDAR
VERSION:2.0
PRODID:-//Zahrbat - ECPv6.2.2//NONSGML v1.0//EN
CALSCALE:GREGORIAN
METHOD:PUBLISH
X-ORIGINAL-URL:https://zahrbat.com
X-WR-CALDESC:évènements pour Zahrbat
REFRESH-INTERVAL;VALUE=DURATION:PT1H
X-Robots-Tag:noindex
X-PUBLISHED-TTL:PT1H
BEGIN:VTIMEZONE
TZID:Europe/Paris
BEGIN:DAYLIGHT
TZOFFSETFROM:+0100
TZOFFSETTO:+0200
TZNAME:CEST
DTSTART:20240331T010000
END:DAYLIGHT
BEGIN:STANDARD
TZOFFSETFROM:+0200
TZOFFSETTO:+0100
TZNAME:CET
DTSTART:20241027T010000
END:STANDARD
END:VTIMEZONE
BEGIN:VEVENT
DTSTART;TZID=Europe/Paris:20241118T093000
DTEND;TZID=Europe/Paris:20241118T110000
DTSTAMP:20260419T190154
CREATED:20240626T140148Z
LAST-MODIFIED:20240627T123753Z
UID:5448-1731922200-1731927600@zahrbat.com
SUMMARY:Almataha - Théâtre de Cachan
DESCRIPTION:Billetterie  \n		\n					\n		\n				\n				\n				\n				\n					\n			\n						\n						Spectacle
URL:https://zahrbat.com/event/almataha-theatre-daurillac/
LOCATION:Théâtre de Cachan
CATEGORIES:Almataha
END:VEVENT
BEGIN:VEVENT
DTSTART;TZID=Europe/Paris:20241118T140000
DTEND;TZID=Europe/Paris:20241118T153000
DTSTAMP:20260419T190154
CREATED:20240626T140216Z
LAST-MODIFIED:20240627T123742Z
UID:5450-1731938400-1731943800@zahrbat.com
SUMMARY:Almataha - Théâtre de Cachan
DESCRIPTION:Billetterie  \n		\n					\n		\n				\n				\n				\n				\n					\n			\n						\n						Spectacle
URL:https://zahrbat.com/event/almataha-theatre-daurillac-2/
LOCATION:Théâtre de Cachan
CATEGORIES:Almataha
END:VEVENT
END:VCALENDAR