BEGIN:VCALENDAR
VERSION:2.0
PRODID:-//Zahrbat - ECPv6.2.2//NONSGML v1.0//EN
CALSCALE:GREGORIAN
METHOD:PUBLISH
X-WR-CALNAME:Zahrbat
X-ORIGINAL-URL:https://zahrbat.com
X-WR-CALDESC:évènements pour Zahrbat
REFRESH-INTERVAL;VALUE=DURATION:PT1H
X-Robots-Tag:noindex
X-PUBLISHED-TTL:PT1H
BEGIN:VTIMEZONE
TZID:Europe/Paris
BEGIN:DAYLIGHT
TZOFFSETFROM:+0100
TZOFFSETTO:+0200
TZNAME:CEST
DTSTART:20240331T010000
END:DAYLIGHT
BEGIN:STANDARD
TZOFFSETFROM:+0200
TZOFFSETTO:+0100
TZNAME:CET
DTSTART:20241027T010000
END:STANDARD
END:VTIMEZONE
BEGIN:VEVENT
DTSTART;TZID=Europe/Paris:20241122T100000
DTEND;TZID=Europe/Paris:20241122T113000
DTSTAMP:20260420T005912
CREATED:20240626T140642Z
LAST-MODIFIED:20240627T123707Z
UID:5466-1732269600-1732275000@zahrbat.com
SUMMARY:Almataha - Fontenay le Fleury
DESCRIPTION:Billetterie  \n		\n					\n		\n				\n				\n				\n				\n					\n			\n						\n						Spectacle
URL:https://zahrbat.com/event/almataha-fontenay-le-fleury/
LOCATION:Fontenay le Fleury
CATEGORIES:Almataha
END:VEVENT
BEGIN:VEVENT
DTSTART;TZID=Europe/Paris:20241122T140000
DTEND;TZID=Europe/Paris:20241122T153000
DTSTAMP:20260420T005912
CREATED:20240626T140703Z
LAST-MODIFIED:20240627T123604Z
UID:5470-1732284000-1732289400@zahrbat.com
SUMMARY:Almataha - Fontenay le Fleury
DESCRIPTION:Billetterie  \n		\n					\n		\n				\n				\n				\n				\n					\n			\n						\n						Spectacle
URL:https://zahrbat.com/event/almataha-fontenay-le-fleury-2/
LOCATION:Fontenay le Fleury
CATEGORIES:Almataha
END:VEVENT
END:VCALENDAR