BEGIN:VCALENDAR
VERSION:2.0
PRODID:-//Zahrbat - ECPv6.2.2//NONSGML v1.0//EN
CALSCALE:GREGORIAN
METHOD:PUBLISH
X-ORIGINAL-URL:https://zahrbat.com
X-WR-CALDESC:évènements pour Zahrbat
REFRESH-INTERVAL;VALUE=DURATION:PT1H
X-Robots-Tag:noindex
X-PUBLISHED-TTL:PT1H
BEGIN:VTIMEZONE
TZID:Europe/Paris
BEGIN:DAYLIGHT
TZOFFSETFROM:+0100
TZOFFSETTO:+0200
TZNAME:CEST
DTSTART:20240331T010000
END:DAYLIGHT
BEGIN:STANDARD
TZOFFSETFROM:+0200
TZOFFSETTO:+0100
TZNAME:CET
DTSTART:20241027T010000
END:STANDARD
END:VTIMEZONE
BEGIN:VEVENT
DTSTART;TZID=Europe/Paris:20241005T210000
DTEND;TZID=Europe/Paris:20241005T220000
DTSTAMP:20260423T183737
CREATED:20240903T135157Z
LAST-MODIFIED:20240903T135157Z
UID:5622-1728162000-1728165600@zahrbat.com
SUMMARY:Run / Festival T Danse\, Aoste\, Italie
DESCRIPTION:Billetterie  \n		\n					\n		\n				\n				\n				\n				\n					\n			\n						\n						Spectacle
URL:https://zahrbat.com/event/run-festival-t-danse-aoste-italie/
LOCATION:Aoste Italie\, Cittadella dei Giovani\, Aoste\, Italie
END:VEVENT
END:VCALENDAR