BEGIN:VCALENDAR
VERSION:2.0
PRODID:-//Zahrbat - ECPv6.2.2//NONSGML v1.0//EN
CALSCALE:GREGORIAN
METHOD:PUBLISH
X-ORIGINAL-URL:https://zahrbat.com
X-WR-CALDESC:évènements pour Zahrbat
REFRESH-INTERVAL;VALUE=DURATION:PT1H
X-Robots-Tag:noindex
X-PUBLISHED-TTL:PT1H
BEGIN:VTIMEZONE
TZID:Europe/Paris
BEGIN:DAYLIGHT
TZOFFSETFROM:+0100
TZOFFSETTO:+0200
TZNAME:CEST
DTSTART:20220327T010000
END:DAYLIGHT
BEGIN:STANDARD
TZOFFSETFROM:+0200
TZOFFSETTO:+0100
TZNAME:CET
DTSTART:20221030T010000
END:STANDARD
END:VTIMEZONE
BEGIN:VEVENT
DTSTART;VALUE=DATE:20220713
DTEND;VALUE=DATE:20220714
DTSTAMP:20260419T220024
CREATED:20220624T150548Z
LAST-MODIFIED:20220624T150548Z
UID:3626-1657670400-1657756799@zahrbat.com
SUMMARY:Almataha - La Factory - Théâtre de L'oulle / Avignon off
DESCRIPTION:Billetterie  \n		\n					\n		\n				\n				\n				\n				\n					\n			\n						\n						Spectacle
URL:https://zahrbat.com/event/almataha-la-factory-theatre-de-loulle-avignon-off-4/
ATTACH;FMTTYPE=image/png:https://zahrbat.com/wp-content/uploads/2022/06/Almataha.png
END:VEVENT
END:VCALENDAR